BEGIN:VCALENDAR
VERSION:2.0
PRODID:-//SyracuseArts.net
METHOD:PUBLISH
BEGIN:VEVENT
UID:20260421060441-syracusearts.net
DTSTAMP:20260421T060441Z
DTSTART:20260421T224500Z
DTEND:20260422T004500Z
SUMMARY:Strides Toward Democracy Film Series: Beneath the Surface: The Storied History of Onondaga Lake\nOnondaga Historical Association\n
LOCATION:Manlius Cinema, 135 E. Seneca St., Manlius
DESCRIPTION:For complete information, visit http://syracusearts.net/calendar/event.cfm?PerfID=155006
URL;VALUE=URI:http://syracusearts.net/calendar/event.cfm?PerfID=155006
END:VEVENT
END:VCALENDAR